BEGIN:VCALENDAR
VERSION:2.0
PRODID:-//Juneau STEAM Coalition - ECPv6.15.20//NONSGML v1.0//EN
CALSCALE:GREGORIAN
METHOD:PUBLISH
X-WR-CALNAME:Juneau STEAM Coalition
X-ORIGINAL-URL:https://juneausteam.org
X-WR-CALDESC:Events for Juneau STEAM Coalition
REFRESH-INTERVAL;VALUE=DURATION:PT1H
X-Robots-Tag:noindex
X-PUBLISHED-TTL:PT1H
BEGIN:VTIMEZONE
TZID:America/Juneau
BEGIN:DAYLIGHT
TZOFFSETFROM:-0900
TZOFFSETTO:-0800
TZNAME:AKDT
DTSTART:20160313T110000
END:DAYLIGHT
BEGIN:STANDARD
TZOFFSETFROM:-0800
TZOFFSETTO:-0900
TZNAME:AKST
DTSTART:20161106T100000
END:STANDARD
BEGIN:DAYLIGHT
TZOFFSETFROM:-0900
TZOFFSETTO:-0800
TZNAME:AKDT
DTSTART:20170312T110000
END:DAYLIGHT
BEGIN:STANDARD
TZOFFSETFROM:-0800
TZOFFSETTO:-0900
TZNAME:AKST
DTSTART:20171105T100000
END:STANDARD
BEGIN:DAYLIGHT
TZOFFSETFROM:-0900
TZOFFSETTO:-0800
TZNAME:AKDT
DTSTART:20180311T110000
END:DAYLIGHT
BEGIN:STANDARD
TZOFFSETFROM:-0800
TZOFFSETTO:-0900
TZNAME:AKST
DTSTART:20181104T100000
END:STANDARD
BEGIN:DAYLIGHT
TZOFFSETFROM:-0900
TZOFFSETTO:-0800
TZNAME:AKDT
DTSTART:20190310T110000
END:DAYLIGHT
BEGIN:STANDARD
TZOFFSETFROM:-0800
TZOFFSETTO:-0900
TZNAME:AKST
DTSTART:20191103T100000
END:STANDARD
END:VTIMEZONE
BEGIN:VEVENT
DTSTART;TZID=America/Juneau:20180321T083000
DTEND;TZID=America/Juneau:20180321T085000
DTSTAMP:20260425T125841
CREATED:20180129T030838Z
LAST-MODIFIED:20180129T030838Z
UID:217-1521621000-1521622200@juneausteam.org
SUMMARY:Capital Chat\, KINY: highlighting the upcoming (3/28) STEM Night for Families
DESCRIPTION:We’ll be talking about the STEM Night for Families and encouraging community members to help and K-5 families to come participate.
URL:https://juneausteam.org/event/capital-chat-kiny-highlighting-the-upcoming-3-28-stem-night-for-families/
END:VEVENT
BEGIN:VEVENT
DTSTART;TZID=America/Juneau:20180315T163000
DTEND;TZID=America/Juneau:20180315T163000
DTSTAMP:20260425T125841
CREATED:20180220T050444Z
LAST-MODIFIED:20180220T050444Z
UID:266-1521131400-1521131400@juneausteam.org
SUMMARY:STEM Coalition Steering Committee Meeting - All welcome
DESCRIPTION:Agenda will be ready about a week before the meeting and posted here.  We’ll be continuing our efforts to lay out a strategic plan for the Coalition\, based on feedback from the Annual Community Summit.  Read the minutes from February to understand the context and goals.
URL:https://juneausteam.org/event/stem-coalition-steering-committee-meeting-all-welcome/
LOCATION:JEDC\, Whittier
END:VEVENT
BEGIN:VEVENT
DTSTART;TZID=America/Juneau:20180313T183000
DTEND;TZID=America/Juneau:20180313T193000
DTSTAMP:20260425T125841
CREATED:20180121T192504Z
LAST-MODIFIED:20180121T192504Z
UID:167-1520965800-1520969400@juneausteam.org
SUMMARY:Riverbend Science Night
DESCRIPTION:
URL:https://juneausteam.org/event/riverbend-science-night/
LOCATION:Riverbend Elementary School\, 2901 Riverside Drive\, Juneau\, AK\, 99801\, United States
END:VEVENT
BEGIN:VEVENT
DTSTART;TZID=America/Juneau:20180312T153000
DTEND;TZID=America/Juneau:20180312T170000
DTSTAMP:20260425T125841
CREATED:20180309T071726Z
LAST-MODIFIED:20180309T071726Z
UID:303-1520868600-1520874000@juneausteam.org
SUMMARY:STEM Family Night Planning Committee
DESCRIPTION:Meeting in Cherry Eckland’s room.  Always interested in more help.
URL:https://juneausteam.org/event/stem-family-night-planning-committee/
LOCATION:Harborview Elementary School\, 1255 Glacier Avenue\, Juneau\, AK\, 99801\, United States
END:VEVENT
BEGIN:VEVENT
DTSTART;TZID=America/Juneau:20180306T154500
DTEND;TZID=America/Juneau:20180306T160000
DTSTAMP:20260425T125841
CREATED:20180129T030056Z
LAST-MODIFIED:20180129T030104Z
UID:213-1520351100-1520352000@juneausteam.org
SUMMARY:Juneau Afternoon\, KTOO: STEM Night for K-5 Families
DESCRIPTION:We’ll be explaining the goals of the STEM Night and encouraging STEM experts to join us in hosting an activity and families to join us in participating.
URL:https://juneausteam.org/event/juneau-afternoon-ktoo-stem-night-for-k-5-families/
END:VEVENT
BEGIN:VEVENT
DTSTART;TZID=America/Juneau:20180226T153000
DTEND;TZID=America/Juneau:20180226T170000
DTSTAMP:20260425T125841
CREATED:20180221T074318Z
LAST-MODIFIED:20180221T074318Z
UID:280-1519659000-1519664400@juneausteam.org
SUMMARY:STEM Night for K-5 Families Planning Meeting
DESCRIPTION:Come join us if you’d like to help plan.  See elsewhere on this website for details
URL:https://juneausteam.org/event/stem-night-for-k-5-families-planning-meeting/
LOCATION:Becca’s house: call 321-1433 for directions
END:VEVENT
BEGIN:VEVENT
DTSTART;TZID=America/Juneau:20180220T153000
DTEND;TZID=America/Juneau:20180220T170000
DTSTAMP:20260425T125841
CREATED:20180220T045915Z
LAST-MODIFIED:20180220T045959Z
UID:263-1519140600-1519146000@juneausteam.org
SUMMARY:Planning Meeting for STEM Night for K-5 Families (3/28) at JCCS
DESCRIPTION:We’ll just continue our working organizing for the STEM Night in late March.  Lots to do.  All welcome!!
URL:https://juneausteam.org/event/planning-meeting-for-stem-night-for-k-5-families-3-28-at-jccs/
LOCATION:JCCS\, 430 4th Street\, Juneau\, 99801\, United States
END:VEVENT
BEGIN:VEVENT
DTSTART;TZID=America/Juneau:20180215T163000
DTEND;TZID=America/Juneau:20180215T180000
DTSTAMP:20260425T125841
CREATED:20180121T191426Z
LAST-MODIFIED:20180212T055604Z
UID:161-1518712200-1518717600@juneausteam.org
SUMMARY:February Steering Committee Meeting
DESCRIPTION:Here’s the agenda for the meeting\, with many links embedded to relevant documents.  We’ll be continuing our follow up from the Annual Community Summit with the grand plan to create a realistic strategic plan for the Coalition.  Our focus for this meeting will be on identifying the demographic representation within STEM classes and professions in Juneau (how are they reflections of the greater society?) and what role/actions can the STEM Coalition play in making changes.  If we have time\, we will look at re-structuring past conversations (on Math and Science Fair) to ease their development into a strategic plan. \n  \n  \n 
URL:https://juneausteam.org/event/february-steering-committee-meeting/
LOCATION:Juneau Economic Development Council\, 612 W Willoughby Ave\, Juneau\, AK\, 99801\, United States
END:VEVENT
BEGIN:VEVENT
DTSTART;TZID=America/Juneau:20180206T153000
DTEND;TZID=America/Juneau:20180206T163000
DTSTAMP:20260425T125841
CREATED:20180129T031030Z
LAST-MODIFIED:20180129T031030Z
UID:219-1517931000-1517934600@juneausteam.org
SUMMARY:Planning Meeting: STEM Night for K-5 Families (3/28)
DESCRIPTION:Lots to do!  All welcome.  We’ll meet in Lindsay’s room at JCCS.
URL:https://juneausteam.org/event/planning-meeting-stem-night-for-k-5-families-3-28/
LOCATION:JCCS\, 430 4th Street\, Juneau\, 99801\, United States
END:VEVENT
BEGIN:VEVENT
DTSTART;TZID=America/Juneau:20180201T170000
DTEND;TZID=America/Juneau:20180201T183000
DTSTAMP:20260425T125841
CREATED:20180121T192214Z
LAST-MODIFIED:20180121T192214Z
UID:163-1517504400-1517509800@juneausteam.org
SUMMARY:Harborview Science Night
DESCRIPTION:Families are invited to join for a night of hands-on science exploration for K-5 students. \nGym opens at 6pm for STEM designs with rockets! \nEnjoy a family night out with exploration and learning! \n  \n 
URL:https://juneausteam.org/event/harborview-science-night/
LOCATION:Harborview Elementary School\, 1255 Glacier Avenue\, Juneau\, AK\, 99801\, United States
END:VEVENT
BEGIN:VEVENT
DTSTART;TZID=America/Juneau:20180201T160000
DTEND;TZID=America/Juneau:20180201T170000
DTSTAMP:20260425T125841
CREATED:20180129T032754Z
LAST-MODIFIED:20180206T033035Z
UID:221-1517500800-1517504400@juneausteam.org
SUMMARY:S.E.E. Committee Meeting
DESCRIPTION:Agenda: \nPlan for Innovation Summit: “Innovation Short” \nFollow up re: Contacts List\, how to encourage more use? \nPlan next SEE event (spring?) \nHow to plan for 7th grade science projects program? \n  \nMeet in Aurora Room
URL:https://juneausteam.org/event/s-e-e-committee-meeting/
LOCATION:JCCS\, 430 4th Street\, Juneau\, 99801\, United States
CATEGORIES:Juneau STEM Coalition Meetings
END:VEVENT
BEGIN:VEVENT
DTSTART;TZID=America/Juneau:20180123T153000
DTEND;TZID=America/Juneau:20180123T173000
DTSTAMP:20260425T125841
CREATED:20180121T191319Z
LAST-MODIFIED:20180121T191319Z
UID:157-1516721400-1516728600@juneausteam.org
SUMMARY:Family STEM Night Planning Meeting
DESCRIPTION:Are you interested in contributing to Family STEM Night in March? If so\, please consider attending the Family STEM Night planning meeting! Email (juneaustemcoalition@gmail.com) for more information.
URL:https://juneausteam.org/event/family-stem-night-planning-meeting/
LOCATION:JCCS\, 430 4th Street\, Juneau\, 99801\, United States
END:VEVENT
BEGIN:VEVENT
DTSTART;TZID=America/Juneau:20180118T163000
DTEND;TZID=America/Juneau:20180118T180000
DTSTAMP:20260425T125841
CREATED:20171216T181654Z
LAST-MODIFIED:20180116T232707Z
UID:114-1516293000-1516298400@juneausteam.org
SUMMARY:January Steering Committee Meeting
DESCRIPTION:Join us in January to discuss \n\nAnnual community summit topics\nWebsite
URL:https://juneausteam.org/event/january-steering-committee-meeting/
LOCATION:Juneau Economic Development Council\, 612 W Willoughby Ave\, Juneau\, AK\, 99801\, United States
ORGANIZER;CN="Rebecca Soza":MAILTO:juneaustemcoalition@gmail.com
END:VEVENT
BEGIN:VEVENT
DTSTART;TZID=America/Juneau:20171214T163000
DTEND;TZID=America/Juneau:20171214T180000
DTSTAMP:20260425T125841
CREATED:20171125T191746Z
LAST-MODIFIED:20171125T232622Z
UID:77-1513269000-1513274400@juneausteam.org
SUMMARY:December Steering Committee Meeting
DESCRIPTION:
URL:https://juneausteam.org/event/december-coalition-meeting/
LOCATION:Juneau Economic Development Council\, 612 W Willoughby Ave\, Juneau\, AK\, 99801\, United States
ORGANIZER;CN="Rebecca Soza":MAILTO:juneaustemcoalition@gmail.com
END:VEVENT
BEGIN:VEVENT
DTSTART;TZID=America/Juneau:20171209T080000
DTEND;TZID=America/Juneau:20171209T170000
DTSTAMP:20260425T125841
CREATED:20171125T233305Z
LAST-MODIFIED:20171125T233305Z
UID:74-1512806400-1512838800@juneausteam.org
SUMMARY:Juneau Robot Jamboree - Southeast AK Qualifier (Qualifying Event)
DESCRIPTION:FIRST LEGO League
URL:https://juneausteam.org/event/juneau-robot-jamboree-southeast-ak-qualifier-qualifying-event/
END:VEVENT
END:VCALENDAR