BEGIN:VCALENDAR
VERSION:2.0
PRODID:-//Juneau STEAM Coalition - ECPv6.15.20//NONSGML v1.0//EN
CALSCALE:GREGORIAN
METHOD:PUBLISH
X-WR-CALNAME:Juneau STEAM Coalition
X-ORIGINAL-URL:https://juneausteam.org
X-WR-CALDESC:Events for Juneau STEAM Coalition
REFRESH-INTERVAL;VALUE=DURATION:PT1H
X-Robots-Tag:noindex
X-PUBLISHED-TTL:PT1H
BEGIN:VTIMEZONE
TZID:America/Juneau
BEGIN:DAYLIGHT
TZOFFSETFROM:-0900
TZOFFSETTO:-0800
TZNAME:AKDT
DTSTART:20250309T110000
END:DAYLIGHT
BEGIN:STANDARD
TZOFFSETFROM:-0800
TZOFFSETTO:-0900
TZNAME:AKST
DTSTART:20251102T100000
END:STANDARD
BEGIN:DAYLIGHT
TZOFFSETFROM:-0900
TZOFFSETTO:-0800
TZNAME:AKDT
DTSTART:20260308T110000
END:DAYLIGHT
BEGIN:STANDARD
TZOFFSETFROM:-0800
TZOFFSETTO:-0900
TZNAME:AKST
DTSTART:20261101T100000
END:STANDARD
BEGIN:DAYLIGHT
TZOFFSETFROM:-0900
TZOFFSETTO:-0800
TZNAME:AKDT
DTSTART:20270314T110000
END:DAYLIGHT
BEGIN:STANDARD
TZOFFSETFROM:-0800
TZOFFSETTO:-0900
TZNAME:AKST
DTSTART:20271107T100000
END:STANDARD
END:VTIMEZONE
BEGIN:VEVENT
DTSTART;TZID=America/Juneau:20260316T173000
DTEND;TZID=America/Juneau:20260316T193000
DTSTAMP:20260425T064038
CREATED:20260207T132558Z
LAST-MODIFIED:20260207T132558Z
UID:1496-1773682200-1773689400@juneausteam.org
SUMMARY:Curiosity Unleashed 2026: Cycles and Spirals\, Patterns and Process
DESCRIPTION:This year’s theme\, Cycles and Spirals\, Patterns and Process\, highlights and connects learning as an iterative\, spiraling process and the patterns and cycles found throughout nature and STEAM fields. All K-6 families are welcome. Kids and families move freely between stations\, spending 5–30 minutes at activities that are interactive\, easy to explain\, and quick to enter. This event typically draws 500-800 attendees and features 50+ community-led activities. \nWant to help? We are recruiting! Contact us if you would like to lead or help with an activity. Perhaps you would like to help before the event or just add extra hands at the event. We can always use you. Download our poster and spread the word. \nQuestions? Please contact us at JuneauSteamCoalition.org.
URL:https://juneausteam.org/event/curiosity-unleashed-2026-cycles-and-spirals-patterns-and-process/
LOCATION:Thunder Mountain Middle School
END:VEVENT
END:VCALENDAR