BEGIN:VCALENDAR
VERSION:2.0
PRODID:-//Juneau STEAM Coalition - ECPv6.15.20//NONSGML v1.0//EN
CALSCALE:GREGORIAN
METHOD:PUBLISH
X-WR-CALNAME:Juneau STEAM Coalition
X-ORIGINAL-URL:https://juneausteam.org
X-WR-CALDESC:Events for Juneau STEAM Coalition
REFRESH-INTERVAL;VALUE=DURATION:PT1H
X-Robots-Tag:noindex
X-PUBLISHED-TTL:PT1H
BEGIN:VTIMEZONE
TZID:America/Juneau
BEGIN:DAYLIGHT
TZOFFSETFROM:-0900
TZOFFSETTO:-0800
TZNAME:AKDT
DTSTART:20170312T110000
END:DAYLIGHT
BEGIN:STANDARD
TZOFFSETFROM:-0800
TZOFFSETTO:-0900
TZNAME:AKST
DTSTART:20171105T100000
END:STANDARD
BEGIN:DAYLIGHT
TZOFFSETFROM:-0900
TZOFFSETTO:-0800
TZNAME:AKDT
DTSTART:20180311T110000
END:DAYLIGHT
BEGIN:STANDARD
TZOFFSETFROM:-0800
TZOFFSETTO:-0900
TZNAME:AKST
DTSTART:20181104T100000
END:STANDARD
BEGIN:DAYLIGHT
TZOFFSETFROM:-0900
TZOFFSETTO:-0800
TZNAME:AKDT
DTSTART:20190310T110000
END:DAYLIGHT
BEGIN:STANDARD
TZOFFSETFROM:-0800
TZOFFSETTO:-0900
TZNAME:AKST
DTSTART:20191103T100000
END:STANDARD
BEGIN:DAYLIGHT
TZOFFSETFROM:-0900
TZOFFSETTO:-0800
TZNAME:AKDT
DTSTART:20200308T110000
END:DAYLIGHT
BEGIN:STANDARD
TZOFFSETFROM:-0800
TZOFFSETTO:-0900
TZNAME:AKST
DTSTART:20201101T100000
END:STANDARD
BEGIN:DAYLIGHT
TZOFFSETFROM:-0900
TZOFFSETTO:-0800
TZNAME:AKDT
DTSTART:20210314T110000
END:DAYLIGHT
BEGIN:STANDARD
TZOFFSETFROM:-0800
TZOFFSETTO:-0900
TZNAME:AKST
DTSTART:20211107T100000
END:STANDARD
BEGIN:DAYLIGHT
TZOFFSETFROM:-0900
TZOFFSETTO:-0800
TZNAME:AKDT
DTSTART:20220313T110000
END:DAYLIGHT
BEGIN:STANDARD
TZOFFSETFROM:-0800
TZOFFSETTO:-0900
TZNAME:AKST
DTSTART:20221106T100000
END:STANDARD
BEGIN:DAYLIGHT
TZOFFSETFROM:-0900
TZOFFSETTO:-0800
TZNAME:AKDT
DTSTART:20230312T110000
END:DAYLIGHT
BEGIN:STANDARD
TZOFFSETFROM:-0800
TZOFFSETTO:-0900
TZNAME:AKST
DTSTART:20231105T100000
END:STANDARD
BEGIN:DAYLIGHT
TZOFFSETFROM:-0900
TZOFFSETTO:-0800
TZNAME:AKDT
DTSTART:20240310T110000
END:DAYLIGHT
BEGIN:STANDARD
TZOFFSETFROM:-0800
TZOFFSETTO:-0900
TZNAME:AKST
DTSTART:20241103T100000
END:STANDARD
BEGIN:DAYLIGHT
TZOFFSETFROM:-0900
TZOFFSETTO:-0800
TZNAME:AKDT
DTSTART:20250309T110000
END:DAYLIGHT
BEGIN:STANDARD
TZOFFSETFROM:-0800
TZOFFSETTO:-0900
TZNAME:AKST
DTSTART:20251102T100000
END:STANDARD
BEGIN:DAYLIGHT
TZOFFSETFROM:-0900
TZOFFSETTO:-0800
TZNAME:AKDT
DTSTART:20260308T110000
END:DAYLIGHT
BEGIN:STANDARD
TZOFFSETFROM:-0800
TZOFFSETTO:-0900
TZNAME:AKST
DTSTART:20261101T100000
END:STANDARD
END:VTIMEZONE
BEGIN:VEVENT
DTSTART;TZID=America/Juneau:20250310T173000
DTEND;TZID=America/Juneau:20250310T193000
DTSTAMP:20260425T081813
CREATED:20250113T182758Z
LAST-MODIFIED:20250113T182758Z
UID:1472-1741627800-1741635000@juneausteam.org
SUMMARY:Curiosity Unleashed 2025: Change Makers!
DESCRIPTION:
URL:https://juneausteam.org/event/curiosity-unleashed-2025-change-makers/
LOCATION:Thunder Mountain Middle School
END:VEVENT
BEGIN:VEVENT
DTSTART;TZID=America/Juneau:20230508T173000
DTEND;TZID=America/Juneau:20230508T193000
DTSTAMP:20260425T081813
CREATED:20230505T173519Z
LAST-MODIFIED:20230505T173519Z
UID:1159-1683567000-1683574200@juneausteam.org
SUMMARY:State of STEAM Summit
DESCRIPTION:
URL:https://juneausteam.org/event/state-of-steam-summit/
LOCATION:JDHS Commons\, 1639 Glacier Ave\, Juneau\, AK\, 99801\, United States
END:VEVENT
BEGIN:VEVENT
DTSTART;TZID=America/Juneau:20230213T173000
DTEND;TZID=America/Juneau:20230213T193000
DTSTAMP:20260425T081813
CREATED:20230213T183629Z
LAST-MODIFIED:20230213T183629Z
UID:1052-1676309400-1676316600@juneausteam.org
SUMMARY:Curiosity Unleashed
DESCRIPTION:
URL:https://juneausteam.org/event/curiosity-unleashed/
LOCATION:Thunder Mountain High School\, 3101 Riverside Drive\, Juneau\, AK\, 99801\, United States
END:VEVENT
BEGIN:VEVENT
DTSTART;TZID=America/Juneau:20221013T163000
DTEND;TZID=America/Juneau:20221013T180000
DTSTAMP:20260425T081813
CREATED:20230213T183356Z
LAST-MODIFIED:20230213T183356Z
UID:1049-1665678600-1665684000@juneausteam.org
SUMMARY:S.E.E. STEAM: 2022
DESCRIPTION:
URL:https://juneausteam.org/event/s-e-e-steam-2022/
LOCATION:JACC\, 350 Whittier St\, Juneau\, AK\, 99801\, United States
END:VEVENT
BEGIN:VEVENT
DTSTART;TZID=America/Juneau:20190406T100000
DTEND;TZID=America/Juneau:20190406T120000
DTSTAMP:20260425T081813
CREATED:20190321T203126Z
LAST-MODIFIED:20190321T203126Z
UID:463-1554544800-1554552000@juneausteam.org
SUMMARY:Curiosity Unleashed: A Free Event for K-5 Families
DESCRIPTION:Our 2nd annual community STEM event is coming up on April 6! \nJoin us at Dzantik’i Heeni Middle School on Saturday\, April 6 from 10 AM – 12 PM. Drop in anytime and enjoy over 40 hands-on STEM activities and a special presentation on great games for learning math.
URL:https://juneausteam.org/event/curiosity-unleashed-a-free-event-for-k-5-families/
LOCATION:Dzantik’i Heeni Middle School\, 1600 Renninger St\, Juneau\, AK\, 99801\, United States
END:VEVENT
BEGIN:VEVENT
DTSTART;TZID=America/Juneau:20190404T163000
DTEND;TZID=America/Juneau:20190404T183000
DTSTAMP:20260425T081813
CREATED:20190329T060529Z
LAST-MODIFIED:20190329T060529Z
UID:468-1554395400-1554402600@juneausteam.org
SUMMARY:6th Computational Thinking Community Workshop
DESCRIPTION:Last in a series of workshops for educators.  Sen. Kiehl\, Brian Holst\, and Dave D’Amore will give short presentations about how they use computational thinking in their work\, specifically how data analysis informs policy making.   Teachers will choose break out sessions in which to dig more deeply into the topics presented\, all with an eye toward how to bring computational thinking examples and strategies into their classrooms.
URL:https://juneausteam.org/event/6th-computational-thinking-community-workshop/
LOCATION:Dzantik’i Heeni Middle School\, 1600 Renninger St\, Juneau\, AK\, 99801\, United States
END:VEVENT
BEGIN:VEVENT
DTSTART;TZID=America/Juneau:20181204T163000
DTEND;TZID=America/Juneau:20181204T183000
DTSTAMP:20260425T081813
CREATED:20190208T084023Z
LAST-MODIFIED:20190329T061437Z
UID:440-1543941000-1543948200@juneausteam.org
SUMMARY:2nd Annual STEM Community Summit
DESCRIPTION:STEM organizations from throughout Juneau will gather to map out what is – and isn’t – happening with STEM\, 0-21\, in Juneau.  Organized by Juneau STEM Coalition\, STEPS (AASB)\, and JSD.
URL:https://juneausteam.org/event/2nd-annual-stem-community-summit/
LOCATION:TMHS\, 3101 Riverside Drive\, Juneau\, AK\, 99801\, United States
END:VEVENT
BEGIN:VEVENT
DTSTART;TZID=America/Juneau:20181025T163000
DTEND;TZID=America/Juneau:20181025T183000
DTSTAMP:20260425T081813
CREATED:20181010T073814Z
LAST-MODIFIED:20181010T073814Z
UID:437-1540485000-1540492200@juneausteam.org
SUMMARY:Computational Thinking at NOAA
DESCRIPTION:Join us to hear about how NOAA\, CBJ Emergency Preparedness and USGS use computational thinking in their work and then help us think about to bring those ideas into Juneau’s classrooms.
URL:https://juneausteam.org/event/computational-thinking-at-noaa/
END:VEVENT
BEGIN:VEVENT
DTSTART;TZID=America/Juneau:20181018T163000
DTEND;TZID=America/Juneau:20181018T180000
DTSTAMP:20260425T081813
CREATED:20181010T071723Z
LAST-MODIFIED:20181010T071723Z
UID:430-1539880200-1539885600@juneausteam.org
SUMMARY:STEM Coalition Monthly Meeting
DESCRIPTION:Join us for our monthly meeting.  We review Coalition events and projects\, ask for help in making those happen\, and plan new events and projects.  We’re very busy and always need help planning\, doing and recruiting.   Agenda link.
URL:https://juneausteam.org/event/stem-coalition-monthly-meeting/
LOCATION:JEDC\, Whittier
END:VEVENT
BEGIN:VEVENT
DTSTART;TZID=America/Juneau:20181017T170000
DTEND;TZID=America/Juneau:20181017T190000
DTSTAMP:20260425T081813
CREATED:20181010T073411Z
LAST-MODIFIED:20181010T073411Z
UID:432-1539795600-1539802800@juneausteam.org
SUMMARY:S.E.E. STEM: 2018
DESCRIPTION:Join us for our second annual evening of networking with STEM community members and local K-12 educators.  Our goal is to facilitate collaboration between local STEM experts and teachers\, to bring real-life\, meaningful place-based connections to our schools.  This year\, we’ll have some focus on specific elementary science kits and secondary topics and also time to mingle with less formality.  As always\, a fun ice breaker\, free food\, drinks and door prizes.  Please join us!!  More details here.  
URL:https://juneausteam.org/event/s-e-e-stem-2018/
LOCATION:UAS Rec Center\, 11066 Auke Lake Way\, Juneau
END:VEVENT
BEGIN:VEVENT
DTSTART;TZID=America/Juneau:20180922T090000
DTEND;TZID=America/Juneau:20180922T150000
DTSTAMP:20260425T081813
CREATED:20180907T021656Z
LAST-MODIFIED:20180907T021707Z
UID:415-1537606800-1537628400@juneausteam.org
SUMMARY:Girl Scouts of Alaska: Introduce a Girl to Engineering Day
DESCRIPTION:
URL:https://juneausteam.org/event/introduce-a-girl-to-engineering-day/
LOCATION:Centennial Hall\, 101 Egan Drive\, Juneau\, AK\, United States
CATEGORIES:Volunteer Opportunities
ORGANIZER;CN="Kelly Fitzgerald":MAILTO:kfitzgerald@girlscoutsalaska.org
END:VEVENT
BEGIN:VEVENT
DTSTART;TZID=America/Juneau:20180915T120000
DTEND;TZID=America/Juneau:20180915T200000
DTSTAMP:20260425T081813
CREATED:20180912T021434Z
LAST-MODIFIED:20180912T021434Z
UID:424-1537012800-1537041600@juneausteam.org
SUMMARY:Juneau Makerspace Grand Re-Opening
DESCRIPTION:
URL:https://juneausteam.org/event/juneau-makerspace-grand-re-opening/
LOCATION:Juneau Makerspace\, 3915 North Douglas Hwy\, Juneau\, AK\, United States
CATEGORIES:Volunteer Opportunities
ORGANIZER;CN="Juneau Makerspace":MAILTO:juneaumakerspace@gmail.com
END:VEVENT
BEGIN:VEVENT
DTSTART;TZID=America/Juneau:20180816T163000
DTEND;TZID=America/Juneau:20180816T180000
DTSTAMP:20260425T081813
CREATED:20180626T222223Z
LAST-MODIFIED:20180731T161543Z
UID:395-1534437000-1534442400@juneausteam.org
SUMMARY:August Steering Committee
DESCRIPTION:We will continue to add to our Work Plan.  What are the projects and activities where we should most focus our energy?
URL:https://juneausteam.org/event/august-steering-committee/
LOCATION:JEDC\, Whittier
END:VEVENT
BEGIN:VEVENT
DTSTART;TZID=America/Juneau:20180730T090000
DTEND;TZID=America/Juneau:20180803T160000
DTSTAMP:20260425T081813
CREATED:20180410T051251Z
LAST-MODIFIED:20180410T051251Z
UID:349-1532941200-1533312000@juneausteam.org
SUMMARY:High School Robotics
DESCRIPTION:Interested in honing your skills for the FIRST Tech Challenge? This camp will give students on opportunity to build skills in 3D Design and prototyping\, programming in android studio\, and the general engineering design process. \n\nHeld at NOAA’s Ted Stevens Marine Research Institute\nStudents entering grades 9 – 12\nCost: $300\nJuly 30 – August 3 – REGISTER NOW!
URL:https://juneausteam.org/event/high-school-robotics/
LOCATION:NOAA’s Ted Stevens Marine Research Institute\, 17109 Pt. Lena Loop Road\, Juneau\, AK\, 99801\, United States
ORGANIZER;CN="Rebecca Soza":MAILTO:juneaustemcoalition@gmail.com
END:VEVENT
BEGIN:VEVENT
DTSTART;TZID=America/Juneau:20180723T090000
DTEND;TZID=America/Juneau:20180727T160000
DTSTAMP:20260425T081813
CREATED:20180410T052200Z
LAST-MODIFIED:20180410T052200Z
UID:360-1532336400-1532707200@juneausteam.org
SUMMARY:3D Design and Printing
DESCRIPTION:3D printing can help bring your dreams to life! Throughout this week\, you’ll be challenged to think about ways you can solve everyday problems in 3D! You’ll work with your fellow campers to imagine\, design\, model\, print\, and build 3D parts. You’ll work with Tinkercad\, free software that you can use at home\, and you’ll be introduced to resources in town like the Juneau Makerspace so you can keep on designing and printing long after camp has finished! \n\nHeld at NOAA’s Ted Stevens Marine Research Institute\nStudents entering grades 8-12\nCost: $300\nJuly 23 – 27 – REGISTER NOW!(link is external)
URL:https://juneausteam.org/event/3d-design-and-printing/
LOCATION:NOAA’s Ted Stevens Marine Research Institute\, 17109 Pt. Lena Loop Road\, Juneau\, AK\, 99801\, United States
ORGANIZER;CN="Rebecca Soza":MAILTO:juneaustemcoalition@gmail.com
END:VEVENT
BEGIN:VEVENT
DTSTART;TZID=America/Juneau:20180719T163000
DTEND;TZID=America/Juneau:20180719T180000
DTSTAMP:20260425T081813
CREATED:20180626T222116Z
LAST-MODIFIED:20180719T221744Z
UID:393-1532017800-1532023200@juneausteam.org
SUMMARY:July Steering Committee
DESCRIPTION:We’ll be adding to and prioritizing the Working Plan to guide the STEM Coalition for the next year.  Minutes from June are here.  https://docs.google.com/document/d/18WZoGgGI_VsdtKgXQOTfn9O965sj9I-_N-pBkrRZmOI/edit \nAgenda for July here:  https://docs.google.com/document/d/1XoxoWuG3vJysfaukSH781tV6F0fD1N8YDZP4AQnqd3g/edit \n  \n 
URL:https://juneausteam.org/event/july-steering-committee/
LOCATION:JEDC\, Whittier
END:VEVENT
BEGIN:VEVENT
DTSTART;TZID=America/Juneau:20180718T090000
DTEND;TZID=America/Juneau:20180722T160000
DTSTAMP:20260425T081813
CREATED:20180410T050816Z
LAST-MODIFIED:20180410T050816Z
UID:345-1531904400-1532275200@juneausteam.org
SUMMARY:EV3 Programming - ADVANCED
DESCRIPTION:Campers will use Mindstorms software to program LEGO EV3 Robots to complete various challenges! We are offering several weeks of Robotics Camps and participants can attend multiple weeks because activities will vary from week to week. \n\nStudents entering grades 4 – 8\nCost: $300\n9:00 AM – 4:00 PM\, Monday-Friday @ Thunder Mountain High School\nADVANCED: July 16-20 – REGISTER NOW!(link is external)\n\nCampers in the advanced camp should already be comfortable programming with sensors\, switches\, and loops.
URL:https://juneausteam.org/event/ev3-programming-advanced/
LOCATION:Thunder Mountain High School\, 3101 Riverside Drive\, Juneau\, AK\, 99801\, United States
ORGANIZER;CN="Rebecca Soza":MAILTO:juneaustemcoalition@gmail.com
END:VEVENT
BEGIN:VEVENT
DTSTART;TZID=America/Juneau:20180709T130000
DTEND;TZID=America/Juneau:20180713T160000
DTSTAMP:20260425T081813
CREATED:20180410T051705Z
LAST-MODIFIED:20180410T051705Z
UID:354-1531141200-1531497600@juneausteam.org
SUMMARY:Everything Goes Up! (and other fun STEM stuff) - SPECIAL K-1
DESCRIPTION:From paper airplanes to potato launchers – this camp is sure to be a blast. Days will be packed with fun\, hands-on activities designed to get kids thinking\, questioning\, and creating. Activities will include storytelling\, art\, and engineering! \n\nStudents entering grades 2-3\nCost: $300\nSPECIAL K-1 Option – July 9-13. 1 PM – 4 PM – REGISTER NOW!
URL:https://juneausteam.org/event/everything-goes-up-and-other-fun-stem-stuff-special-k-1/
LOCATION:Thunder Mountain High School\, 3101 Riverside Drive\, Juneau\, AK\, 99801\, United States
ORGANIZER;CN="Rebecca Soza":MAILTO:juneaustemcoalition@gmail.com
END:VEVENT
BEGIN:VEVENT
DTSTART;TZID=America/Juneau:20180709T090000
DTEND;TZID=America/Juneau:20180713T160000
DTSTAMP:20260425T081813
CREATED:20180410T050955Z
LAST-MODIFIED:20180410T050955Z
UID:347-1531126800-1531497600@juneausteam.org
SUMMARY:Girls Rock Robotics!
DESCRIPTION:A new spin on Girls Rock Science! Campers will use Mindstorms software to program LEGO EV3 Robots to complete various challenges! \n\nGirls entering grades 4 – 8\nCost: $300\nJuly 9-13 – REGISTER NOW!
URL:https://juneausteam.org/event/girls-rock-robotics/
LOCATION:Thunder Mountain High School\, 3101 Riverside Drive\, Juneau\, AK\, 99801\, United States
ORGANIZER;CN="Rebecca Soza":MAILTO:juneaustemcoalition@gmail.com
END:VEVENT
BEGIN:VEVENT
DTSTART;TZID=America/Juneau:20180625T090000
DTEND;TZID=America/Juneau:20180629T160000
DTSTAMP:20260425T081813
CREATED:20180410T052034Z
LAST-MODIFIED:20180410T052034Z
UID:358-1529917200-1530288000@juneausteam.org
SUMMARY:Building a Lunar Colony
DESCRIPTION:If humans continue to deplete resources on planet Earth\, will there come a time when we need to create a settlement somewhere else in our solar system? In this camp\, students will explore what it would take to set up a Moon colony – what materials they will need to bring\, how the very different lunar environment might impact the way they live\, and what challenges they would face to survive on the Moon. Students will investigate impacts of the lunar environment and construct models of possible colonies to meet specific criteria and constraints. \n\n\n\nStudents entering grades 6-8\nCost: $300\nJune 25-29 – REGISTER NOW!
URL:https://juneausteam.org/event/building-a-lunar-colony/
LOCATION:Thunder Mountain High School\, 3101 Riverside Drive\, Juneau\, AK\, 99801\, United States
ORGANIZER;CN="Rebecca Soza":MAILTO:juneaustemcoalition@gmail.com
END:VEVENT
BEGIN:VEVENT
DTSTART;TZID=America/Juneau:20180625T090000
DTEND;TZID=America/Juneau:20180628T160000
DTSTAMP:20260425T081813
CREATED:20180410T050425Z
LAST-MODIFIED:20180410T050425Z
UID:341-1529917200-1530201600@juneausteam.org
SUMMARY:WeDo Programming
DESCRIPTION:LEGO WeDo Products will be used to make alligators that chomp and monkeys that move! This camp is for students entering grades 2-3. \n\nStudents entering grades 2 – 3\nCost: $240\n9:00 AM – 4:00 PM\, Monday-Thursday @ Thunder Mountain High School\nJune 25-28 – REGISTER NOW!
URL:https://juneausteam.org/event/wedo-programming-2/
LOCATION:Thunder Mountain High School\, 3101 Riverside Drive\, Juneau\, AK\, 99801\, United States
ORGANIZER;CN="Rebecca Soza":MAILTO:juneaustemcoalition@gmail.com
END:VEVENT
BEGIN:VEVENT
DTSTART;TZID=America/Juneau:20180618T090000
DTEND;TZID=America/Juneau:20180629T163000
DTSTAMP:20260425T081813
CREATED:20180206T034331Z
LAST-MODIFIED:20180206T034331Z
UID:232-1529312400-1530289800@juneausteam.org
SUMMARY:Bright Girls Summer Academy
DESCRIPTION:  \n\n\n\nThe BRIGHT Girls Academy is a two-week\, hands-on learning experience where high school- aged girls work in teams to explore harbor seals and their ocean habitat. Expect to explore a glacial fjord by boat\, hike out to a glacier\, take pictures\, use science tools and technology\, take measurements in the field and the lab\, and explore the outdoors with new friends. The academy is day only (no housing provided). \n\nApplications are due by April 1\, 2018 \nContact: Laura Oxtoby (907)474-5396\, leoxtoby@alaska.edu
URL:https://juneausteam.org/event/bright-girls-summer-academy/
LOCATION:Lena Point\, Juneau\, AK\, United States
ORGANIZER;CN="Laura Oxtoby":MAILTO:leoxtoby@alaska.edu
END:VEVENT
BEGIN:VEVENT
DTSTART;TZID=America/Juneau:20180618T090000
DTEND;TZID=America/Juneau:20180622T160000
DTSTAMP:20260425T081813
CREATED:20180410T051451Z
LAST-MODIFIED:20180410T051451Z
UID:352-1529312400-1529683200@juneausteam.org
SUMMARY:Everything Goes Up! (and other fun STEM stuff)
DESCRIPTION:From paper airplanes to potato launchers – this camp is sure to be a blast. Days will be packed with fun\, hands-on activities designed to get kids thinking\, questioning\, and creating. Activities will include storytelling\, art\, and engineering! \n\nStudents entering grades 2-3\nCost: $300\nGrades 2-3 – June 18-22 – REGISTER NOW!(link is external)
URL:https://juneausteam.org/event/everything-goes-up-and-other-fun-stem-stuff/
LOCATION:Thunder Mountain High School\, 3101 Riverside Drive\, Juneau\, AK\, 99801\, United States
ORGANIZER;CN="Rebecca Soza":MAILTO:juneaustemcoalition@gmail.com
END:VEVENT
BEGIN:VEVENT
DTSTART;TZID=America/Juneau:20180618T090000
DTEND;TZID=America/Juneau:20180622T160000
DTSTAMP:20260425T081813
CREATED:20180410T050550Z
LAST-MODIFIED:20180410T050550Z
UID:343-1529312400-1529683200@juneausteam.org
SUMMARY:EV3 Programming
DESCRIPTION:Campers will use Mindstorms software to program LEGO EV3 Robots to complete various challenges! We are offering several weeks of Robotics Camps and participants can attend multiple weeks because activities will vary from week to week. \n\nStudents entering grades 4 – 8\nCost: $300\n9:00 AM – 4:00 PM\, Monday-Friday @ Thunder Mountain High School\nJune 18-22 – REGISTER NOW!
URL:https://juneausteam.org/event/ev3-programming/
LOCATION:Thunder Mountain High School\, 3101 Riverside Drive\, Juneau\, AK\, 99801\, United States
ORGANIZER;CN="Rebecca Soza":MAILTO:juneaustemcoalition@gmail.com
END:VEVENT
BEGIN:VEVENT
DTSTART;TZID=America/Juneau:20180611T090000
DTEND;TZID=America/Juneau:20180614T160000
DTSTAMP:20260425T081813
CREATED:20180410T050301Z
LAST-MODIFIED:20180410T050301Z
UID:339-1528707600-1528992000@juneausteam.org
SUMMARY:WeDo Programming
DESCRIPTION:LEGO WeDo Products will be used to make alligators that chomp and monkeys that move! This camp is for students entering grades 2-3. \n\nStudents entering grades 2 – 3\nCost: $240\n9:00 AM – 4:00 PM\, Monday-Thursday @ Thunder Mountain High School\nJune 11-14 – REGISTER NOW!(link is external)
URL:https://juneausteam.org/event/wedo-programming/
LOCATION:Thunder Mountain High School\, 3101 Riverside Drive\, Juneau\, AK\, 99801\, United States
ORGANIZER;CN="Rebecca Soza":MAILTO:juneaustemcoalition@gmail.com
END:VEVENT
BEGIN:VEVENT
DTSTART;TZID=America/Juneau:20180610T090000
DTEND;TZID=America/Juneau:20180615T160000
DTSTAMP:20260425T081813
CREATED:20180410T051902Z
LAST-MODIFIED:20180410T051902Z
UID:356-1528621200-1529078400@juneausteam.org
SUMMARY:Kinetic Sculpture Camp
DESCRIPTION:This exciting new camp uses a curriculum shared by the Edgerton Center at MIT. Students will explore familiar materials in new and whimsical ways. Through the manipulation of traditional art supplies\, recycled materials\, hardware\, and food\, students will build a variety of kinetic elements. In the process they will experiment with concepts such as center of balance\, potential and kinetic energy\, gear mechanisms\, and harnessing wind-generated power. \n\n\nStudents entering grades 6-8\nCost: $300\nJune 10-15 – REGISTER NOW!
URL:https://juneausteam.org/event/kinetic-sculpture-camp/
LOCATION:Thunder Mountain High School\, 3101 Riverside Drive\, Juneau\, AK\, 99801\, United States
END:VEVENT
BEGIN:VEVENT
DTSTART;TZID=America/Juneau:20180604T090000
DTEND;TZID=America/Juneau:20180608T153000
DTSTAMP:20260425T081813
CREATED:20180410T052548Z
LAST-MODIFIED:20180410T052548Z
UID:362-1528102800-1528471800@juneausteam.org
SUMMARY:Camp Invention - Fast Forward
DESCRIPTION:Your child will become a Robotic Pet Vet™ using tools\, circuitry\, biology and physiology to take apart and diagnose puppy problems. Campers then celebrate the homecoming of their customized robotic pet as they demonstrate design engineering concepts in the construction of a new dog park attraction! \nIn Mod My Mini Mansion™ your child will dream up and design their very own futuristic smart home filled with gadgets\, LEDs and technology – from exploring renewable sources to binary coding\, this take-home mini mansion will make architecture concepts unforgettable! \nCampers will launch into the future with their very own Optibot™ – a small self-driving bot that senses change in light\, as children go on an exploration adventure fueled by aerial\, aquatic and land transportation technology! \nDaily challenges will inspire your young innovator to Stick To It™using collaboration\, discovery and invention prototyping to solve real world issues. Whether it’s through the lens of a physicist\, engineer or entrepreneur\, campers explore chemistry with magnetic slime\, trajectory in a catapult challenge\, and the exciting testing of mechanical gears and their robotic arm creations! \n\n\n\n\nFor children entering grades K through 6\nCost: $225  \n\n\nLocation: 3101 Riverside Drive\nJuneau\, AK 99801\n\n\nProgram Dates:     6/4/2018 – 6/8/2018\nProgram Length:  5 Days\nProgram Times:     9:00 AM – 3:30 PM
URL:https://juneausteam.org/event/camp-invention-fast-forward/
LOCATION:Thunder Mountain High School\, 3101 Riverside Drive\, Juneau\, AK\, 99801\, United States
END:VEVENT
BEGIN:VEVENT
DTSTART;VALUE=DATE:20180604
DTEND;VALUE=DATE:20180818
DTSTAMP:20260425T081813
CREATED:20180410T053508Z
LAST-MODIFIED:20180410T053508Z
UID:365-1528070400-1534550399@juneausteam.org
SUMMARY:Discovery Southeast- Outdoor Explorers Summer Camp
DESCRIPTION:Discovery Southeast  offers weekly day camps\, plus kayak camping for middle schoolers and overnight cabin trips.  We’re outside having fun every day! \nSmall group sizes allow travel by van to a different location daily\, as we explore Juneau’s gorgeous natural areas and the Tongass National Forest.   Our open format allows inquiry-based STEM learning\, and plenty of unstructured time to explore and enjoy. \n  \nPlease heed the age ranges\, and please enroll a child for no more than 3 weeks of camp. If you’re just outside the age range or already signed up for 3 weeks\, use our waitlist and we’ll make case-by-case decisions on whether we can accommodate your request. \nDrop-off and pick up will generally be at 8:30 am and 4:00 pm at Twin Lakes.  From there we will travel by 15 passenger van to our day’s destination\, exploring the Tongass National Forest or other park lands in the CBJ. Itineraries change each week and will be sent to parents in the week prior to camp.  Weekly themes indicate a general focus for the week\, but all weeks prioritize open time to explore outdoors each day. \nOvernight Cabin-to-Cabin special details:\nMonday is not overnight\, but is a shake-down day to make sure everyone has the proper gear\, food\, and equipment–we will help find gear if you do not have access. Then Tuesday through Friday will include wilderness backpacking\, spending the nights in remote cabins.  Days will include roughly 4 mile hikes with a pack; you do not have to be a super-hiker but should have excitement to backpack in a group. \nCost:\nRegular tuition is $260 per week\, Overnight (cabin to cabin) is $410\, and Kayak Camp is $440.  This is thanks to financial support from Discovery Southeast members\, the Forest Service\, and many others.  In addition\, we proudly offer sliding scale tuition.  If regular tuition is not appropriate for your family right now\, simply enter the amount you’d like to pay\, per child – you can even put $0. \n  \n  \nJune 4th-8th: Rocks Week \nJune 11th-15th: Adventure Week \nJune 18th-22nd: Oceans Week\, Overnight #1 \nJune 25th-29th: Photo Camp\, Animal Camp\, Kayak Expedition #1 \nJuly 9th-13th: Kayak Expedition #2 \nJuly 16th-20th: Peak Week #1\, Adventure Hikes \nJuly 23rd-27th: Salmon Week \nJuly 30th- August 3rd: Photo Camp\, Botany/Wild Edibles\, Overnight #2 \nAugust 6th-10th: Maps/Orienteering Week\, Peak Week #2 \nAugust 13th-17th: Stream Camp
URL:https://juneausteam.org/event/discovery-southeast-outdoor-explorers-summer-camp/
END:VEVENT
BEGIN:VEVENT
DTSTART;TZID=America/Juneau:20180419T163000
DTEND;TZID=America/Juneau:20180419T180000
DTSTAMP:20260425T081813
CREATED:20180407T063947Z
LAST-MODIFIED:20180412T234132Z
UID:327-1524155400-1524160800@juneausteam.org
SUMMARY:Steering Committee - All Welcome
DESCRIPTION:We’ll focus this month on advocacy for STEM – to whom\, with what focus\, how.   How can we be effective as a group and as individuals?  We’ll do our regular monthly updates as always.  Here’s the link to the agenda.  Here’s the link to the survey re: participation toward Coalition goals and actions. \nMay’s meeting will focus on a strategic plan for the Coalition.  We’ll bring a draft for the group to respond to and edit.
URL:https://juneausteam.org/event/steering-committee-all-welcome/
LOCATION:JEDC\, Whittier
END:VEVENT
BEGIN:VEVENT
DTSTART;TZID=America/Juneau:20180417T180000
DTEND;TZID=America/Juneau:20180417T181500
DTSTAMP:20260425T081813
CREATED:20180407T063544Z
LAST-MODIFIED:20180407T063544Z
UID:324-1523988000-1523988900@juneausteam.org
SUMMARY:Spotlight on Success
DESCRIPTION:Short ten-minute presentation to Juneau School Board about the Juneau STEM Coalition and the increased attention to STEM education throughout Juneau.  Special attention to reporting on the STEM Night for K-5 Families (March 28) and the accompanying professional development with administrators and teachers (3/29\, 3/30).
URL:https://juneausteam.org/event/spotlight-on-success/
LOCATION:Juneau Douglas High School Library
END:VEVENT
END:VCALENDAR