BEGIN:VCALENDAR
VERSION:2.0
PRODID:-//Juneau STEAM Coalition - ECPv6.15.20//NONSGML v1.0//EN
CALSCALE:GREGORIAN
METHOD:PUBLISH
X-WR-CALNAME:Juneau STEAM Coalition
X-ORIGINAL-URL:https://juneausteam.org
X-WR-CALDESC:Events for Juneau STEAM Coalition
REFRESH-INTERVAL;VALUE=DURATION:PT1H
X-Robots-Tag:noindex
X-PUBLISHED-TTL:PT1H
BEGIN:VTIMEZONE
TZID:America/Juneau
BEGIN:DAYLIGHT
TZOFFSETFROM:-0900
TZOFFSETTO:-0800
TZNAME:AKDT
DTSTART:20170312T110000
END:DAYLIGHT
BEGIN:STANDARD
TZOFFSETFROM:-0800
TZOFFSETTO:-0900
TZNAME:AKST
DTSTART:20171105T100000
END:STANDARD
BEGIN:DAYLIGHT
TZOFFSETFROM:-0900
TZOFFSETTO:-0800
TZNAME:AKDT
DTSTART:20180311T110000
END:DAYLIGHT
BEGIN:STANDARD
TZOFFSETFROM:-0800
TZOFFSETTO:-0900
TZNAME:AKST
DTSTART:20181104T100000
END:STANDARD
BEGIN:DAYLIGHT
TZOFFSETFROM:-0900
TZOFFSETTO:-0800
TZNAME:AKDT
DTSTART:20190310T110000
END:DAYLIGHT
BEGIN:STANDARD
TZOFFSETFROM:-0800
TZOFFSETTO:-0900
TZNAME:AKST
DTSTART:20191103T100000
END:STANDARD
END:VTIMEZONE
BEGIN:VEVENT
DTSTART;TZID=America/Juneau:20180922T090000
DTEND;TZID=America/Juneau:20180922T150000
DTSTAMP:20260424T154923
CREATED:20180907T021656Z
LAST-MODIFIED:20180907T021707Z
UID:415-1537606800-1537628400@juneausteam.org
SUMMARY:Girl Scouts of Alaska: Introduce a Girl to Engineering Day
DESCRIPTION:
URL:https://juneausteam.org/event/introduce-a-girl-to-engineering-day/
LOCATION:Centennial Hall\, 101 Egan Drive\, Juneau\, AK\, United States
CATEGORIES:Volunteer Opportunities
ORGANIZER;CN="Kelly Fitzgerald":MAILTO:kfitzgerald@girlscoutsalaska.org
END:VEVENT
BEGIN:VEVENT
DTSTART;TZID=America/Juneau:20180915T120000
DTEND;TZID=America/Juneau:20180915T200000
DTSTAMP:20260424T154923
CREATED:20180912T021434Z
LAST-MODIFIED:20180912T021434Z
UID:424-1537012800-1537041600@juneausteam.org
SUMMARY:Juneau Makerspace Grand Re-Opening
DESCRIPTION:
URL:https://juneausteam.org/event/juneau-makerspace-grand-re-opening/
LOCATION:Juneau Makerspace\, 3915 North Douglas Hwy\, Juneau\, AK\, United States
CATEGORIES:Volunteer Opportunities
ORGANIZER;CN="Juneau Makerspace":MAILTO:juneaumakerspace@gmail.com
END:VEVENT
END:VCALENDAR